BEGIN:VCALENDAR
VERSION:2.0
PRODID:-//Mundwerk Kulturbiotop
 //NONSGML Events //EN
CALSCALE:GREGORIAN
X-WR-CALNAME:Mundwerk Kulturbiotop
BEGIN:VTIMEZONE
TZID:Europe/Zurich
X-LIC-LOCATION:Europe/Zurich
BEGIN:DAYLIGHT
TZOFFSETFROM:+0100
TZOFFSETTO:+0200
TZNAME:CEST
DTSTART:19700329T020000
RRULE:FREQ=YEARLY;BYMONTH=3;BYDAY=-1SU
END:DAYLIGHT
END:VTIMEZONE
BEGIN:VEVENT
CREATED;TZID=Europe/Zurich:20240311T195644Z
UID:2684
DTSTART;TZID=Europe/Zurich;VALUE=DATE-TIME:20240316T200000Z
DTEND;TZID=Europe/Zurich;VALUE=DATE-TIME:20240316T235900Z
DTSTAMP;TZID=Europe/Zurich:20260423T093512Z
LOCATION:Doerflistrasse76
DESCRIPTION: Start: 20:00
 \n Ende: 02:00
 \n https://mw-club.ch/de_de/event/2684/
 \n <strong>Crawling Crows</strong> Crawling Crows wurde 2019 von Dominic Montani und Daniel Germiquet gegründet\, die beide im selben Dorf im Schatten einer Zementfabrik in der Nähe der von Biel/Bienne aufgewachsen sind. Seit ihrer Jugend spielten beide in verschiedenen Musikformationen\, wo sie ihren Sound kultivierten. Schweisstreibende Live-Performances und Rockmusik ohne zu viel Glitzer\, dafür stehen Crawling Crows. Das Publikum darf sich auf Rockmusik mit einer Gitarre und einem Schlagzeug mit etwas Würze und einer charakteristischen Stimme freuen. Manchmal laut\, manchmal leise\, aber immer mit fesselnder Leidenschaft und roher Energie. &nbsp\; <strong>Apple Shakers</strong> Apple Shakers sind ein Alternative-Rock-Duo\, bestehend aus Rory White und Basil Steiner. Das aus den East Midlands bzw. Zürich stammende Duo kreuzte seine Wege in London. Obwohl ihre musikalischen Einflüsse polar entgegengesetzt waren\, stellten Rory und Basil bald fest\, dass sie ein gemeinsames Ziel verfolgten: gegen die politische und soziale Landschaft ihrer Zeit zu wettern\, aber auch den Seelen Energie zu geben\, die in einer Welt der Strukturen und Formeln eine Alternative suchen. Mit einer kompromisslosen DIY-Ästhetik feilte die Band an ihrer dynamischen Klangverschmelzung von Rorys herzzerreissenden\, bissigen Gitarrenriffs und Basils schnoddrigen\, metronomischen Beats und bassgetriebenen Synths. Mit ihrer neuen EP «Blood\, Sweat &amp\; Broke» wollen die Apple Shakers der aktuellen Post-Punk-Szene einen kräftigen Tritt in den sprichwörtlichen Hintern versetzen... und gleichzeitig die Barrieren zwischen der Band und ihrem Publikum niederreissen. &nbsp\; <strong>Choked by Gum</strong> “die Welt ist schlecht\, das Leben bleibt schön” Choked by Gum aus Freiburg stehen für straightes und schnelles Schlagzeug im Wechsel\, treibende Basslinien und nicht bluesige Gitarrenriffs. Getragen von Front bis vier Stimmen\; rau\, kratzig\, geschrien und zum Scheitern verurteilte Gesangslinien. Punkrock\, Skaeinlagen\, Pop und Hardcore in den Mixer gepackt ergeben Mixed-Punkrock zum lauschen\, tanzen und eins aufs Auge. &nbsp\;
SUMMARY:Mehr Anker für den Punker
ORGANIZER:Mundwerk
URL;VALUE=URI:https://mw-club.ch/de_de/event/2684/
TRANSP:OPAQUE
BEGIN:VALARM
ACTION:DISPLAY
TRIGGER;TZID=Europe/Zurich;VALUE=DATE-TIME:20240316T200000Z
DESCRIPTION:Reminder for Mehr Anker für den Punker
END:VALARM
END:VEVENT
END:VCALENDAR
